BEGIN:VCALENDAR
VERSION:2.0
PRODID:-//Idaho Potato Drop - ECPv6.15.20//NONSGML v1.0//EN
CALSCALE:GREGORIAN
METHOD:PUBLISH
X-WR-CALNAME:Idaho Potato Drop
X-ORIGINAL-URL:https://idahopotatodrop.com
X-WR-CALDESC:Events for Idaho Potato Drop
REFRESH-INTERVAL;VALUE=DURATION:PT1H
X-Robots-Tag:noindex
X-PUBLISHED-TTL:PT1H
BEGIN:VTIMEZONE
TZID:America/Boise
BEGIN:DAYLIGHT
TZOFFSETFROM:-0700
TZOFFSETTO:-0600
TZNAME:MDT
DTSTART:20240310T090000
END:DAYLIGHT
BEGIN:STANDARD
TZOFFSETFROM:-0600
TZOFFSETTO:-0700
TZNAME:MST
DTSTART:20241103T080000
END:STANDARD
BEGIN:DAYLIGHT
TZOFFSETFROM:-0700
TZOFFSETTO:-0600
TZNAME:MDT
DTSTART:20250309T090000
END:DAYLIGHT
BEGIN:STANDARD
TZOFFSETFROM:-0600
TZOFFSETTO:-0700
TZNAME:MST
DTSTART:20251102T080000
END:STANDARD
BEGIN:DAYLIGHT
TZOFFSETFROM:-0700
TZOFFSETTO:-0600
TZNAME:MDT
DTSTART:20260308T090000
END:DAYLIGHT
BEGIN:STANDARD
TZOFFSETFROM:-0600
TZOFFSETTO:-0700
TZNAME:MST
DTSTART:20261101T080000
END:STANDARD
BEGIN:DAYLIGHT
TZOFFSETFROM:-0700
TZOFFSETTO:-0600
TZNAME:MDT
DTSTART:20270314T090000
END:DAYLIGHT
BEGIN:STANDARD
TZOFFSETFROM:-0600
TZOFFSETTO:-0700
TZNAME:MST
DTSTART:20271107T080000
END:STANDARD
END:VTIMEZONE
BEGIN:VEVENT
DTSTART;TZID=America/Boise:20251231T190000
DTEND;TZID=America/Boise:20260101T013000
DTSTAMP:20260420T103114
CREATED:20250521T230853Z
LAST-MODIFIED:20251231T175358Z
UID:10000001-1767207600-1767231000@idahopotatodrop.com
SUMMARY:VIP 2025/2026
DESCRIPTION:13th Annual Idaho Potato Drop!\nLet’s Party like it is 1776 for the 250 Anniversary of the United States.\n\n21+ VIP area opens at 7:00 PM! Enjoy a full bar with one complimentary drink. 3 Girls Catering will be providing food starting at 8:00 PM until 10:00 PM. Live raffle- Little raffle 8:45 -9:00 PM (Idaho® Potato Drop and Idaho® Potato Commission Merchandise) and Big Raffle 10:00 to 10:15 PM (1 night stay in Idaho Potato hotel and Renu beauty package worth $800) . Enjoy the warm and toasty VIP right next to the Main Stage while sipping on a cocktail while listening to live music throughout the evening.\n\n\nUpdate: 3 GIRLS CATERING/ICONIC is going to be treating you VIP’s (very important potatoes) this NYE.\n\n\nMENU Midnight Mashtini Bar; (GF) w chopped brisket\, roasted broccoli\, scallions & shredded cheese\, Studio 54 Disco Bacon (GF); chocolate drizzle\, cayenne & kosher salt + edible glitter\, Stardust Sushi Roll; chef’s choice hand rolled sushi\, Sparkly Spud Truffled Potato Flatbread: w caramelized onions\, potatoes\, gorgonzola + bechamel *served at room temp\, Matcha Party Puffs / Beignets w edible glitter\n\n\nSpecial Surprise: LIVE MUSIC HEADLINER American Mile late night 12:30 AM to 1:30 AM. \n\n\nMust be 21 and over\, tickets available online through December 30th.\n\nTickets are non refundable non transferable. \nTickets might still be available at the door. Check availability at the door. \n\n	\n\n		\n		\n		\n\n		\n\n\n		\n\n\n\n	Tickets\n\n		\n	\n	\n		The numbers below include tickets for this event already in your cart. Clicking "Get Tickets" will allow you to edit any existing attendee information as well as change ticket quantities.	\n\n\n		\n		\n		\n	\n		Tickets are no longer available
URL:https://idahopotatodrop.com/event/vip-2025-2026/
LOCATION:Cecil D. Andrus Park\, 601 W Jefferson St\, Boise\, ID\, 83702\, United States
ATTACH;FMTTYPE=image/png:https://idahopotatodrop.com/wp-content/uploads/2025/05/December-VIP-Promotion-–-CTA.png
END:VEVENT
END:VCALENDAR